BEGIN:VCALENDAR
METHOD:PUBLISH
CALSCALE:GREGORIAN
PRODID:Philharmonie.lu
VERSION:2.0
BEGIN:VEVENT
DTSTAMP:20210422T220300
DTSTART:20210324T180000
DTEND:20210324T200000
LOCATION:Salle de Musique de Chambre
SUMMARY:LËTZ PHIL | Arthur Possing Quartet
DESCRIPTION:None
UID:event3240@Philharmonie.lu
URL:https://www.philharmonie.lu/programm/letz-phil-arthur-possing-quartet/3240
END:VEVENT
END:VCALENDAR
