BEGIN:VCALENDAR
METHOD:PUBLISH
CALSCALE:GREGORIAN
PRODID:Philharmonie.lu
VERSION:2.0
BEGIN:VEVENT
DTSTAMP:20210422T220000
DTSTART:20210317T200000
DTEND:20210317T220000
LOCATION:Salle de Musique de Chambre
SUMMARY:LËTZ PHIL | Gast Waltzing Quintet
DESCRIPTION:None
UID:event3246@Philharmonie.lu
URL:https://www.philharmonie.lu/programm/letz-phil-gast-waltzing-quintet/3246
END:VEVENT
END:VCALENDAR
