BEGIN:VCALENDAR
METHOD:PUBLISH
CALSCALE:GREGORIAN
PRODID:Philharmonie.lu
VERSION:2.0
BEGIN:VEVENT
DTSTAMP:20210424T160000
DTSTART:20210602T200000
DTEND:20210602T220000
LOCATION:Salle de Musique de Chambre
SUMMARY:LËTZ PHIL | Serge Tonnar
DESCRIPTION:None
UID:event3404@Philharmonie.lu
URL:https://www.philharmonie.lu/programm/letz-phil-serge-tonnar/3404
END:VEVENT
END:VCALENDAR
