BEGIN:VCALENDAR
METHOD:PUBLISH
CALSCALE:GREGORIAN
PRODID:Philharmonie.lu
VERSION:2.0
BEGIN:VEVENT
DTSTAMP:20210424T160700
DTSTART:20201122T110000
DTEND:20201122T130000
LOCATION:Neimënster
SUMMARY:«Luxembourg Composition Academy»
DESCRIPTION:Concert de clôture de l&#39;Académie
Carola Bauckholt: Geräuschtöne für Violine, Violoncello und Percussion
Żaneta Rydzewska: blots  for clarinet, piano and electronics
Michele Foresi: Yes I’m paranoid, but: am I paranoid enough?
Jiwon Seo: T, It emits the BIG swamp gas!  for violin, viola, saxophone and piano
Paweł Malinowski: still in the middle of happening  for violin, violoncello, clarinet, piano and percussions
Aya Yoshida: Pleat Pleat Pleat  for violin, violoncello and saxophone
Nik Bohnenberger: Sollbruchstelle  pour alto, violoncelle, clarinette et saxophone
Daniil Posazhennikov: anachrony  for violin, viola, violoncello, saxophone and percussions
Matthew Shlomowitz: Popular Contexts, Volume 6: 2. Basic Bass Patterns Trio for vibraphone, drum-kit and sampler keyboard
UID:event3050@Philharmonie.lu
URL:https://www.philharmonie.lu/programm/luxembourg-composition-academy/3050
END:VEVENT
END:VCALENDAR
