BEGIN:VCALENDAR
METHOD:PUBLISH
CALSCALE:GREGORIAN
PRODID:Philharmonie.lu
VERSION:2.0
BEGIN:VEVENT
DTSTAMP:20210424T160300
DTSTART:20201114T170000
DTEND:20201114T190000
LOCATION:Salle de Musique de Chambre
SUMMARY:«Magma»
DESCRIPTION:Récital de cuivres
Graciela Paraskevaídis: magma VI
Ann Cleare: mire |…| veins
Max Murray: Donner, danach (création)
Michelle Lou: lie beneath the grass (création, commande Philharmonie)
UID:event3041@Philharmonie.lu
URL:https://www.philharmonie.lu/programm/magma/3041
END:VEVENT
END:VCALENDAR
