BEGIN:VCALENDAR
METHOD:PUBLISH
CALSCALE:GREGORIAN
PRODID:Philharmonie.lu
VERSION:2.0
BEGIN:VEVENT
DTSTAMP:20210422T220300
DTSTART:20210327T200000
DTEND:20210327T220000
LOCATION:Grand Auditorium
SUMMARY:Mariza sings Amália
DESCRIPTION:«Mariza sings Amália»
UID:event3060@Philharmonie.lu
URL:https://www.philharmonie.lu/programm/mariza-sings-amalia/3060
END:VEVENT
END:VCALENDAR
