BEGIN:VCALENDAR
METHOD:PUBLISH
CALSCALE:GREGORIAN
PRODID:Philharmonie.lu
VERSION:2.0
BEGIN:VEVENT
DTSTAMP:20210422T220400
DTSTART:20210328T190000
DTEND:20210328T210000
LOCATION:Grand Auditorium
SUMMARY:Mariza sings Amália
DESCRIPTION:«Mariza sings Amália»
UID:event3061@Philharmonie.lu
URL:https://www.philharmonie.lu/programm/mariza-sings-amalia/3061
END:VEVENT
END:VCALENDAR
