BEGIN:VCALENDAR
METHOD:PUBLISH
CALSCALE:GREGORIAN
PRODID:Philharmonie.lu
VERSION:2.0
BEGIN:VEVENT
DTSTAMP:20170621T141200
DTSTART:20150129T200000
DTEND:20150129T220000
LOCATION:Salle de Musique de Chambre
SUMMARY:Marly Marques Quintet
DESCRIPTION:«Só ar ser»
Jazz standards and compositions by members of the Marly Marques Quintet sung in English, Portuguese and Spanish: None
Paul Fox: «He’s trouble»
Paul Fox: «Sweethearth»
Dave Frishberg: «Peel Me a Grape»
Jitz Jeitz: «Só ar ser»
Jitz Jeitz: «Lua»
Paul Fox: «21st century man»
Antônio Carlos Jobim: «Insensatez»
Paul Fox: «Metamorphoses»
Jitz Jeitz: «Baile de desfase»
Jack White: «Seven Nation Army»
Frank Sinatra, Jack Wolf, Joel Herron: «I&#39;m a Fool to Want You»
Bloodshy &amp; Avant, Cathy Dennis, Henrik Jonback: «Toxic»
Bis / Zugabe(n): None
Miguel Matamoros: «Lágrimas negras»
Ray Charles: «Hard Times (No One Knows Better Than I)»
UID:event634@Philharmonie.lu
URL:https://www.philharmonie.lu/programm/marly-marques-quintet/634
END:VEVENT
END:VCALENDAR
