BEGIN:VCALENDAR
METHOD:PUBLISH
CALSCALE:GREGORIAN
PRODID:Philharmonie.lu
VERSION:2.0
BEGIN:VEVENT
DTSTAMP:20210422T220100
DTSTART:20210320T200000
DTEND:20210320T220000
LOCATION:Grand Auditorium
SUMMARY:Mnozil Brass
DESCRIPTION:«Gold»
UID:event2932@Philharmonie.lu
URL:https://www.philharmonie.lu/programm/mnozil-brass/2932
END:VEVENT
END:VCALENDAR
