BEGIN:VCALENDAR
METHOD:PUBLISH
CALSCALE:GREGORIAN
PRODID:Philharmonie.lu
VERSION:2.0
BEGIN:VEVENT
DTSTAMP:20210424T160700
DTSTART:20201122T200000
DTEND:20201122T220000
LOCATION:Grand Foyer
SUMMARY:O'Malley, Ambarchi & Curtis performing Alvin Lucier
DESCRIPTION:Concert final
Alvin Lucier: Criss-Cross
Alvin Lucier: Glacier
Alvin Lucier: V
UID:event2807@Philharmonie.lu
URL:https://www.philharmonie.lu/programm/omalley-ambarchi-curtis-performing-alvin-lucier/2807
END:VEVENT
END:VCALENDAR
