BEGIN:VCALENDAR
METHOD:PUBLISH
CALSCALE:GREGORIAN
PRODID:Philharmonie.lu
VERSION:2.0
BEGIN:VEVENT
DTSTAMP:20210422T220200
DTSTART:20210321T103000
DTEND:20210321T123000
LOCATION:Salle de Répétition II
SUMMARY:«#PhilSounds»
DESCRIPTION:Ein kreativer Musikapp-Workshop für die ganze Familie
UID:event3086@Philharmonie.lu
URL:https://www.philharmonie.lu/programm/philsounds/3086
END:VEVENT
END:VCALENDAR
