BEGIN:VCALENDAR
METHOD:PUBLISH
CALSCALE:GREGORIAN
PRODID:Philharmonie.lu
VERSION:2.0
BEGIN:VEVENT
DTSTAMP:20210424T160400
DTSTART:20201114T190000
DTEND:20201114T210000
LOCATION:Grand Auditorium
SUMMARY:«quasi fantasie» – OPL / Markus Stenz / Tamara Stefanovich
DESCRIPTION:Rencontres entre pianiste, orchestre, public et espace
Milica Djordjević: Role-playing 1: strings attached for piano solo
Georges Lentz: Guyuhmgan for orchestra and electronics 
György Kurtág: ...quasi una fantasia... op. 27/1 pour piano et groupes instrumentaux dispersés dans lʼespace 
Zeynep Gedizlioğlu: Blick des Abwesenden – Klavierkonzert 
UID:event2800@Philharmonie.lu
URL:https://www.philharmonie.lu/programm/quasi-fantasie-opl-markus-stenz-tamara-stefanovich/2800
END:VEVENT
END:VCALENDAR
