BEGIN:VCALENDAR
METHOD:PUBLISH
CALSCALE:GREGORIAN
PRODID:Philharmonie.lu
VERSION:2.0
BEGIN:VEVENT
DTSTAMP:20210424T160400
DTSTART:20201114T210000
DTEND:20201114T230000
LOCATION:Salle de Musique de Chambre
SUMMARY:«Réminiscences musicales»
DESCRIPTION:Concert ludique
Gérard Pesson: La lumière nʼa pas de bras pour nous porter pour piano amplifié
Wolfgang A. Mozart: Adagio KV 356 für Glasharmonika (arr. pour 26 et 4 mains)
Francesco Filidei: Puccini a Caccia pour ensemble
Claire-Mélanie Sinnhuber: Tracasseries pour flûte, clarinette, violon, violoncelle et piano 
Bastien David: Six Chansons laissées sans voix 
Gérard Pesson: La lumière nʼa pas de bras pour nous porter  pour neuf musiciens (arr. Frédéric Pattar)
UID:event3132@Philharmonie.lu
URL:https://www.philharmonie.lu/programm/reminiscences-musicales/3132
END:VEVENT
END:VCALENDAR
