BEGIN:VCALENDAR
METHOD:PUBLISH
CALSCALE:GREGORIAN
PRODID:Philharmonie.lu
VERSION:2.0
BEGIN:VEVENT
DTSTAMP:20210422T220000
DTSTART:20210319T180000
DTEND:20210319T200000
LOCATION:Grand Auditorium
SUMMARY:Renaud Capuçon / Gustavo Gimeno / OPL
DESCRIPTION:None
Wolfgang A. Mozart: Violinkonzert N° 3 KV 216
Ludwig van Beethoven: Symphonie N° 5
UID:event3235@Philharmonie.lu
URL:https://www.philharmonie.lu/programm/renaud-capucon-gustavo-gimeno-opl/3235
END:VEVENT
END:VCALENDAR
