BEGIN:VCALENDAR
METHOD:PUBLISH
CALSCALE:GREGORIAN
PRODID:Philharmonie.lu
VERSION:2.0
BEGIN:VEVENT
DTSTAMP:20210422T220200
DTSTART:20210323T200000
DTEND:20210323T220000
LOCATION:Grand Auditorium
SUMMARY:SEL / König / Suwanai
DESCRIPTION:None
Johann Strauss (fils): Intermezzo (Tausend und eine Nacht) op. 346
Tōru Takemitsu: Nostalghia
Max Bruch: Violinkonzert N° 1
Kosaku Yamada: Symphonie en fa majeur (F-Dur) «Triomphe et Paix»
UID:event2934@Philharmonie.lu
URL:https://www.philharmonie.lu/programm/sel-konig-suwanai/2934
END:VEVENT
END:VCALENDAR
