BEGIN:VCALENDAR
METHOD:PUBLISH
CALSCALE:GREGORIAN
PRODID:Philharmonie.lu
VERSION:2.0
BEGIN:VEVENT
DTSTAMP:20210424T160900
DTSTART:20210208T193000
DTEND:20210208T213000
LOCATION:Müpa Budapest
SUMMARY:Seong-Jin Cho / Gustavo Gimeno / OPL
DESCRIPTION:None
Frédéric Chopin: Concerto pour piano et orchestre N° 1
Felix Mendelssohn Bartholdy: Symphonie N° 4 «Italienische» / «Italienne»
UID:event2888@Philharmonie.lu
URL:https://www.philharmonie.lu/programm/seong-jin-cho-gustavo-gimeno-opl/2888
END:VEVENT
END:VCALENDAR
