BEGIN:VCALENDAR
METHOD:PUBLISH
CALSCALE:GREGORIAN
PRODID:Philharmonie.lu
VERSION:2.0
BEGIN:VEVENT
DTSTAMP:20210422T220400
DTSTART:20210329T200000
DTEND:20210329T220000
LOCATION:Grand Auditorium
SUMMARY:Sir John Eliot Gardiner / English Baroque Soloists – Johannespassion «Ouschterconcert»
DESCRIPTION:None
Johann Sebastian Bach: Johannespassion BWV 245
UID:event2943@Philharmonie.lu
URL:https://www.philharmonie.lu/programm/sir-john-eliot-gardiner-english-baroque-soloists-johannespassion-ouschterconcert/2943
END:VEVENT
END:VCALENDAR
