BEGIN:VCALENDAR
METHOD:PUBLISH
CALSCALE:GREGORIAN
PRODID:Philharmonie.lu
VERSION:2.0
BEGIN:VEVENT
DTSTAMP:20210422T220300
DTSTART:20210325T200000
DTEND:20210325T220000
LOCATION:Grand Auditorium
SUMMARY:Sir Simon Rattle / London Symphony Orchestra
DESCRIPTION:None
Hector Berlioz: Scène d&#39;amour (Roméo et Juliette)
Johannes Brahms: Serenade N° 2 A-Dur
Richard Strauss: Der Bürger als Edelmann.
UID:event2936@Philharmonie.lu
URL:https://www.philharmonie.lu/programm/sir-simon-rattle-london-symphony-orchestra/2936
END:VEVENT
END:VCALENDAR
