BEGIN:VCALENDAR
METHOD:PUBLISH
CALSCALE:GREGORIAN
PRODID:Philharmonie.lu
VERSION:2.0
BEGIN:VEVENT
DTSTAMP:20210424T160500
DTSTART:20201118T200000
DTEND:20201118T220000
LOCATION:Grand Auditorium
SUMMARY:«Strange Birds»
DESCRIPTION:None
Claude Lenners: Pan pour flûte
Evelyn Ficarra: Strange Birds (création, commande Philharmonie)
Markus Brönnimann: Nomos für Flöte solo
Damiano Picci: Digital Alliance (création, commande Philharmonie)
Tōru Takemitsu: Masque pour deux flûtes
UID:event3046@Philharmonie.lu
URL:https://www.philharmonie.lu/programm/strange-birds/3046
END:VEVENT
END:VCALENDAR
