BEGIN:VCALENDAR
METHOD:PUBLISH
CALSCALE:GREGORIAN
PRODID:Philharmonie.lu
VERSION:2.0
BEGIN:VEVENT
DTSTAMP:20210422T220200
DTSTART:20210322T180000
DTEND:20210322T200000
LOCATION:Grand Auditorium
SUMMARY:Víkingur Ólafsson
DESCRIPTION:None
Claude Debussy: Prélude (La Damoiselle élue)
Jean-Philippe Rameau: Le Rappel des Oiseaux (Suite en mi mineur)
Jean-Philippe Rameau: Rigaudon I - Rigaudon II et Double (Suite en mi mineur)
Jean-Philippe Rameau: Musette en rondeau. Tendrement (Suite en mi mineur)
Jean-Philippe Rameau: Tambourin (Suite en mi mineur)
Jean-Philippe Rameau: La Villageoise. Rondeau (Suite en mi mineur)
Jean-Philippe Rameau: Gigue en rondeau I et II (Suite en mi mineur)
Claude Debussy: Jardins sous la pluie (Estampes)
Claude Debussy: Serenade for the Doll (Children&#39;s Corner N° 3)
Claude Debussy: The Snow is Dancing (Children&#39;s Corner N° 4)
Jean-Philippe Rameau: Les Tendres Plaintes (Rondeau) (Suite en ré majeur)
Jean-Philippe Rameau: Les Tourbillons (Rondeau) (Suite en ré majeur)
Jean-Philippe Rameau: L&#39;Entretien des Muses (Suite en ré majeur)
Claude Debussy: Des pas sur la neige (Fußstapfen im Schnee) (Préludes. Premier livre N° 6)
Jean-Philippe Rameau: La Joyeuse (Rondeau) (Suite en ré majeur)
Jean-Philippe Rameau: Les Cyclopes (Rondeau) (Suite en ré majeur)
Víkingur Ólafsson: The Arts and the Hours  (d&#39;après Jean-Philippe Rameau)
Claude Debussy: La Fille aux cheveux de lin (Préludes. Premier livre N° 8)
Claude Debussy: Ondine (Préludes. Deuxième livre N° 8)
Jean-Philippe Rameau: La Poule (Suite en sol mineur)
Jean-Philippe Rameau: L’Enharmonique (Suite en sol mineur)
Jean-Philippe Rameau: Menuet I et II (Suite en sol mineur)
Jean-Philippe Rameau: Les Sauvages (Suite en sol mineur)
Jean-Philippe Rameau: L&#39;Égyptienne (Suite en sol mineur)
UID:event3226@Philharmonie.lu
URL:https://www.philharmonie.lu/programm/vikingur-olafsson/3226
END:VEVENT
END:VCALENDAR
