BEGIN:VCALENDAR
METHOD:PUBLISH
CALSCALE:GREGORIAN
PRODID:Philharmonie.lu
VERSION:2.0
BEGIN:VEVENT
DTSTAMP:20210424T160400
DTSTART:20201114T170000
DTEND:20201114T190000
LOCATION:Luxembourg, Carré
SUMMARY:«Where I start, you do not end»
DESCRIPTION:déambulation à travers espaces sonores 
Cathy van Eck: Empty Chairs 
Nicholas Morrish: Sounds from the Mirror World  (création, commande Philharmonie et United Instruments of Lucilin)
Mauricio Kagel: Con voce
Alexander Khubeev: The Whisper of Phoenix
Matthias Koole: Improvisations
James Tenney: In a Large, Open Space any 12 or more sustaining instruments
UID:event3130@Philharmonie.lu
URL:https://www.philharmonie.lu/programm/where-i-start-you-do-not-end/3130
END:VEVENT
END:VCALENDAR
