BEGIN:VCALENDAR
METHOD:PUBLISH
CALSCALE:GREGORIAN
PRODID:Philharmonie.lu
VERSION:2.0
BEGIN:VEVENT
DTSTAMP:20210424T160200
DTSTART:20201112T190000
DTEND:20201112T210000
LOCATION:Salle de Musique de Chambre
SUMMARY:William Kentridge – «Ursonate»
DESCRIPTION:rainy days &amp;amp; red bridge project opening
Kurt Schwitters, William Kentridge: Ursonate
UID:event3022@Philharmonie.lu
URL:https://www.philharmonie.lu/programm/william-kentridge-ursonate/3022
END:VEVENT
END:VCALENDAR
