BEGIN:VCALENDAR
PRODID:Philharmonie.lu
VERSION:2.0
METHOD:PUBLISH
BEGIN:VEVENT
DTSTAMP:20260422T044049Z
DTSTART:20250302T183000Z
DTEND:20250302T193000Z
LOCATION:1, Place de l'Europe, Luxembourg, 1499, Luxembourg
SUMMARY:Elvis: Steven Pitman & Band
DESCRIPTION:Farewell Concert
UID:11387
URL:https://www.philharmonie.lu/en/programme/2024-25/elvis-steven-pitman-band-000000e9001a2cd3
END:VEVENT
END:VCALENDAR
