BEGIN:VCALENDAR
PRODID:Philharmonie.lu
VERSION:2.0
METHOD:PUBLISH
BEGIN:VEVENT
DTSTAMP:20260425T215900Z
DTSTART:20250906T173000Z
DTEND:20250906T183000Z
LOCATION:1, Place de l'Europe, Luxembourg, 1499, Luxembourg
SUMMARY:Berliner Philharmoniker: Mahler 9
DESCRIPTION:Kirill Petrenko
UID:12071
URL:https://www.philharmonie.lu/en/programme/2025-26/berliner-philharmoniker-mahler-9-000000e9001abee0
END:VEVENT
END:VCALENDAR
