BEGIN:VCALENDAR
PRODID:Philharmonie.lu
VERSION:2.0
METHOD:PUBLISH
BEGIN:VEVENT
DTSTAMP:20260425T231525Z
DTSTART:20250927T173000Z
DTEND:20250927T183000Z
LOCATION:Paulusplatz 3, Trier, 54290, Deutschland
SUMMARY:From Bach to Beethoven
DESCRIPTION:with Kit Armstrong
UID:12099
URL:https://www.philharmonie.lu/en/programme/2025-26/from-bach-to-beethoven-000000e9001a3073
END:VEVENT
END:VCALENDAR
