BEGIN:VCALENDAR
PRODID:Philharmonie.lu
VERSION:2.0
METHOD:PUBLISH
BEGIN:VEVENT
DTSTAMP:20260425T214358Z
DTSTART:20251118T183000Z
DTEND:20251118T193000Z
LOCATION:1, Place de l'Europe, Luxembourg, 1499, Luxembourg
SUMMARY:Baroque Spectrum
DESCRIPTION:il Pomo d’Oro & Anna Prohaska
UID:12117
URL:https://www.philharmonie.lu/en/programme/2025-26/baroque-spectrum-000000e9001ab958
END:VEVENT
END:VCALENDAR
