BEGIN:VCALENDAR
PRODID:Philharmonie.lu
VERSION:2.0
METHOD:PUBLISH
BEGIN:VEVENT
DTSTAMP:20260425T213611Z
DTSTART:20260315T183000Z
DTEND:20260315T193000Z
LOCATION:1, Place de l'Europe, Luxembourg, 1499, Luxembourg
SUMMARY:Renaud Capuçon, Kian Soltani, Mao Fujita
DESCRIPTION:Tchaikovsky & Mendelssohn: Piano Trios
UID:12135
URL:https://www.philharmonie.lu/en/programme/2025-26/renaud-capucon-kian-soltani-mao-fujita-000000e9001a6b1b
END:VEVENT
END:VCALENDAR
