BEGIN:VCALENDAR
PRODID:Philharmonie.lu
VERSION:2.0
METHOD:PUBLISH
BEGIN:VEVENT
DTSTAMP:20260424T153840Z
DTSTART:20260416T173000Z
DTEND:20260416T183000Z
LOCATION:1, Place de l'Europe, Luxembourg, 1499, Luxembourg
SUMMARY:Mahler’s Resurrection
DESCRIPTION:Tugan Sokhiev
UID:12178
URL:https://www.philharmonie.lu/en/programme/2025-26/mahler-s-resurrection-000000e9001a043d
END:VEVENT
END:VCALENDAR
