BEGIN:VCALENDAR
PRODID:Philharmonie.lu
VERSION:2.0
METHOD:PUBLISH
BEGIN:VEVENT
DTSTAMP:20260425T152031Z
DTSTART:20251207T183000Z
DTEND:20251207T193000Z
LOCATION:1, Place de l'Europe, Luxembourg, 1499, Luxembourg
SUMMARY:Grigory Sokolov
DESCRIPTION:
UID:12186
URL:https://www.philharmonie.lu/en/programme/2025-26/grigory-sokolov-000000e90019f8ea
END:VEVENT
END:VCALENDAR
