BEGIN:VCALENDAR
PRODID:Philharmonie.lu
VERSION:2.0
METHOD:PUBLISH
BEGIN:VEVENT
DTSTAMP:20260425T213320Z
DTSTART:20251214T150000Z
DTEND:20251214T160000Z
LOCATION:1, Place de l'Europe, Luxembourg, 1499, Luxembourg
SUMMARY:Fantaisies sur Walt Disney
DESCRIPTION:Récital cinématographique
UID:12223
URL:https://www.philharmonie.lu/en/programme/2025-26/fantaisies-sur-walt-disney-000000e9001b5e10
END:VEVENT
END:VCALENDAR
