BEGIN:VCALENDAR
PRODID:Philharmonie.lu
VERSION:2.0
METHOD:PUBLISH
BEGIN:VEVENT
DTSTAMP:20260422T030514Z
DTSTART:20260426T090000Z
DTEND:20260426T100000Z
LOCATION:1, Place de l'Europe, Luxembourg, 1499, Luxembourg
SUMMARY:Conversations et caprice 
DESCRIPTION:
UID:12233
URL:https://www.philharmonie.lu/en/programme/2025-26/conversations-et-caprice-000000e9001b3a45
END:VEVENT
END:VCALENDAR
