BEGIN:VCALENDAR
PRODID:Philharmonie.lu
VERSION:2.0
METHOD:PUBLISH
BEGIN:VEVENT
DTSTAMP:20260425T030539Z
DTSTART:20251027T183000Z
DTEND:20251027T193000Z
LOCATION:1, Place de l'Europe, Luxembourg, 1499, Luxembourg
SUMMARY:24 at the Piano: Chopin & Shostakovich
DESCRIPTION:Yulianna Avdeeva
UID:12251
URL:https://www.philharmonie.lu/en/programme/2025-26/24-at-the-piano-chopin-shostakovich-000000e9001b20c0
END:VEVENT
END:VCALENDAR
