BEGIN:VCALENDAR
PRODID:Philharmonie.lu
VERSION:2.0
METHOD:PUBLISH
BEGIN:VEVENT
DTSTAMP:20260424T111318Z
DTSTART:20251029T183000Z
DTEND:20251029T193000Z
LOCATION:1, Place de l'Europe, Luxembourg, 1499, Luxembourg
SUMMARY:Martha Argerich & Renaud Capuçon
DESCRIPTION:Sonates
UID:12267
URL:https://www.philharmonie.lu/en/programme/2025-26/martha-argerich-renaud-capucon-000000e9001a9f82
END:VEVENT
END:VCALENDAR
