BEGIN:VCALENDAR
PRODID:Philharmonie.lu
VERSION:2.0
METHOD:PUBLISH
BEGIN:VEVENT
DTSTAMP:20260421T110553Z
DTSTART:20251112T183000Z
DTEND:20251112T193000Z
LOCATION:1, Place de l'Europe, Luxembourg, 1499, Luxembourg
SUMMARY:Rising Star: Áron Horváth
DESCRIPTION:at the cimbalom
UID:12271
URL:https://www.philharmonie.lu/en/programme/2025-26/rising-star-aron-horvath-000000e9001adb21
END:VEVENT
END:VCALENDAR
