BEGIN:VCALENDAR
PRODID:Philharmonie.lu
VERSION:2.0
METHOD:PUBLISH
BEGIN:VEVENT
DTSTAMP:20260424T105711Z
DTSTART:20260112T183000Z
DTEND:20260112T193000Z
LOCATION:1, Place de l'Europe, Luxembourg, 1499, Luxembourg
SUMMARY:Joshua Bell: Spring in the Heart of Winter
DESCRIPTION:Academy of St Martin in the Fields
UID:12321
URL:https://www.philharmonie.lu/en/programme/2025-26/joshua-bell-spring-in-the-heart-of-winter-000000e9001a1e4b
END:VEVENT
END:VCALENDAR
