BEGIN:VCALENDAR
PRODID:Philharmonie.lu
VERSION:2.0
METHOD:PUBLISH
BEGIN:VEVENT
DTSTAMP:20260420T124836Z
DTSTART:20260118T100000Z
DTEND:20260118T110000Z
LOCATION:1, Place de l'Europe, Luxembourg, 1499, Luxembourg
SUMMARY:Intergalactic Highway
DESCRIPTION:
UID:12333
URL:https://www.philharmonie.lu/en/programme/2025-26/intergalactic-highway-000000e9001b4b28
END:VEVENT
END:VCALENDAR
