BEGIN:VCALENDAR
PRODID:Philharmonie.lu
VERSION:2.0
METHOD:PUBLISH
BEGIN:VEVENT
DTSTAMP:20260420T234727Z
DTSTART:20260118T183000Z
DTEND:20260118T193000Z
LOCATION:1, Place de l'Europe, Luxembourg, 1499, Luxembourg
SUMMARY:Organ meets Choir
DESCRIPTION:with Iveta Apkalna
UID:12340
URL:https://www.philharmonie.lu/en/programme/2025-26/organ-meets-choir-000000e9001a1232
END:VEVENT
END:VCALENDAR
