BEGIN:VCALENDAR
PRODID:Philharmonie.lu
VERSION:2.0
METHOD:PUBLISH
BEGIN:VEVENT
DTSTAMP:20260422T010352Z
DTSTART:20260123T183000Z
DTEND:20260123T193000Z
LOCATION:1, Place de l'Europe, Luxembourg, 1499, Luxembourg
SUMMARY:Live Cinema: Lady Windermere’s Fan
DESCRIPTION:Film with live music
UID:12342
URL:https://www.philharmonie.lu/en/programme/2025-26/live-cinema-lady-windermere-s-fan-000000e90019fcad
END:VEVENT
END:VCALENDAR
