BEGIN:VCALENDAR
PRODID:Philharmonie.lu
VERSION:2.0
METHOD:PUBLISH
BEGIN:VEVENT
DTSTAMP:20260425T215523Z
DTSTART:20260125T100000Z
DTEND:20260125T110000Z
LOCATION:1, Place de l'Europe, Luxembourg, 1499, Luxembourg
SUMMARY:Der Zauberer von Oz
DESCRIPTION:
UID:12352
URL:https://www.philharmonie.lu/en/programme/2025-26/der-zauberer-von-oz-000000e9001b4b16
END:VEVENT
END:VCALENDAR
