BEGIN:VCALENDAR
PRODID:Philharmonie.lu
VERSION:2.0
METHOD:PUBLISH
BEGIN:VEVENT
DTSTAMP:20260425T001651Z
DTSTART:20260129T183000Z
DTEND:20260129T193000Z
LOCATION:1, Place de l'Europe, Luxembourg, 1499, Luxembourg
SUMMARY:Les Saisons de Haydn
DESCRIPTION:William Christie
UID:12366
URL:https://www.philharmonie.lu/en/programme/2025-26/les-saisons-de-haydn-000000e90019fcbc
END:VEVENT
END:VCALENDAR
