BEGIN:VCALENDAR
PRODID:Philharmonie.lu
VERSION:2.0
METHOD:PUBLISH
BEGIN:VEVENT
DTSTAMP:20260420T124006Z
DTSTART:20260628T150000Z
DTEND:20260628T160000Z
LOCATION:1, Place de l'Europe, Luxembourg, 1499, Luxembourg
SUMMARY:Orchestre Place de l’Europe
DESCRIPTION:100% Tchaïkovski
UID:12386
URL:https://www.philharmonie.lu/en/programme/2025-26/orchestre-place-de-l-europe-000000e9001b255c
END:VEVENT
END:VCALENDAR
