BEGIN:VCALENDAR
PRODID:Philharmonie.lu
VERSION:2.0
METHOD:PUBLISH
BEGIN:VEVENT
DTSTAMP:20260425T215609Z
DTSTART:20260208T183000Z
DTEND:20260208T193000Z
LOCATION:1, Place de l'Europe, Luxembourg, 1499, Luxembourg
SUMMARY:Klaus Mäkelä & Royal Concertgebouw Orchestra
DESCRIPTION:Bruckner 8
UID:12420
URL:https://www.philharmonie.lu/en/programme/2025-26/klaus-maekelae-royal-concertgebouw-orchestra-000000e90019b1d9
END:VEVENT
END:VCALENDAR
