BEGIN:VCALENDAR
PRODID:Philharmonie.lu
VERSION:2.0
METHOD:PUBLISH
BEGIN:VEVENT
DTSTAMP:20260425T202103Z
DTSTART:20260213T183000Z
DTEND:20260213T193000Z
LOCATION:1, Place de l'Europe, Luxembourg, 1499, Luxembourg
SUMMARY:Sir András Schiff
DESCRIPTION:Surprise!
UID:12426
URL:https://www.philharmonie.lu/en/programme/2025-26/sir-andras-schiff-000000e9001a0412
END:VEVENT
END:VCALENDAR
