BEGIN:VCALENDAR
PRODID:Philharmonie.lu
VERSION:2.0
METHOD:PUBLISH
BEGIN:VEVENT
DTSTAMP:20260424T094026Z
DTSTART:20260222T183000Z
DTEND:20260222T193000Z
LOCATION:1, Place de l'Europe, Luxembourg, 1499, Luxembourg
SUMMARY:Tales & Virtuosity
DESCRIPTION:with Anne-Sophie Mutter
UID:12430
URL:https://www.philharmonie.lu/en/programme/2025-26/tales-virtuosity-000000e9001a1e81
END:VEVENT
END:VCALENDAR
