BEGIN:VCALENDAR
PRODID:Philharmonie.lu
VERSION:2.0
METHOD:PUBLISH
BEGIN:VEVENT
DTSTAMP:20260424T115538Z
DTSTART:20260425T090000Z
DTEND:20260425T100000Z
LOCATION:1, Place de l'Europe, Luxembourg, 1499, Luxembourg
SUMMARY:Der einsamste Wal der Welt
DESCRIPTION:
UID:12454
URL:https://www.philharmonie.lu/en/programme/2025-26/der-einsamste-wal-der-welt-000000e9001b48b8
END:VEVENT
END:VCALENDAR
