BEGIN:VCALENDAR
PRODID:Philharmonie.lu
VERSION:2.0
METHOD:PUBLISH
BEGIN:VEVENT
DTSTAMP:20260424T105355Z
DTSTART:20251115T183000Z
DTEND:20251115T193000Z
LOCATION:1, Place de l'Europe, Luxembourg, 1499, Luxembourg
SUMMARY:Craig Taborn Trio
DESCRIPTION:
UID:12477
URL:https://www.philharmonie.lu/en/programme/2025-26/craig-taborn-trio-000000e9001a7c20
END:VEVENT
END:VCALENDAR
