BEGIN:VCALENDAR
PRODID:Philharmonie.lu
VERSION:2.0
METHOD:PUBLISH
BEGIN:VEVENT
DTSTAMP:20260425T230947Z
DTSTART:20251117T183000Z
DTEND:20251117T193000Z
LOCATION:1, Place de l'Europe, Luxembourg, 1499, Luxembourg
SUMMARY:Sir Simon Rattle
DESCRIPTION:Bruckner 7
UID:12481
URL:https://www.philharmonie.lu/en/programme/2025-26/sir-simon-rattle-000000e90018c830
END:VEVENT
END:VCALENDAR
