BEGIN:VCALENDAR
PRODID:Philharmonie.lu
VERSION:2.0
METHOD:PUBLISH
BEGIN:VEVENT
DTSTAMP:20260419T123204Z
DTSTART:20251129T183000Z
DTEND:20251129T193000Z
LOCATION:1, Place de l'Europe, Luxembourg, 1499, Luxembourg
SUMMARY:Dances with Wolves
DESCRIPTION:Film with live music
UID:12491
URL:https://www.philharmonie.lu/en/programme/2025-26/dances-with-wolves-000000e90019f8e1
END:VEVENT
END:VCALENDAR
