BEGIN:VCALENDAR
PRODID:Philharmonie.lu
VERSION:2.0
METHOD:PUBLISH
BEGIN:VEVENT
DTSTAMP:20260425T183805Z
DTSTART:20260522T173000Z
DTEND:20260522T183000Z
LOCATION:1, Place de l'Europe, Luxembourg, 1499, Luxembourg
SUMMARY:Poems on Life, Love, Loss
DESCRIPTION:with Sir John Eliot Gardiner
UID:12527
URL:https://www.philharmonie.lu/en/programme/2025-26/poems-on-life-love-loss-000000e9001a046a
END:VEVENT
END:VCALENDAR
