BEGIN:VCALENDAR
PRODID:Philharmonie.lu
VERSION:2.0
METHOD:PUBLISH
BEGIN:VEVENT
DTSTAMP:20260424T235117Z
DTSTART:20260301T150000Z
DTEND:20260301T160000Z
LOCATION:1, Place de l'Europe, Luxembourg, 1499, Luxembourg
SUMMARY:Face-à-Face: Schumann
DESCRIPTION:Gesprächskonzert
UID:12541
URL:https://www.philharmonie.lu/en/programme/2025-26/face-a-face-schumann-000000e9001b2409
END:VEVENT
END:VCALENDAR
